Workbook

Sheet Hilos horizontal y vertical
A1: CALCULO DE CAPACIDADES DE UN HILO METHODS, FORMULAS, AND TABLES FOR THE CALCULATION OF ANTENNA CAPACITY
A5: Hilo horizontal sobre suelo | F5: Hilo vertical sobre el suelo | K5: Hilo inclinado respecto al mástil
A6: DATOS | B6: [L] Longitud (mts) | C6: 200 | D6: mts | F6: DATOS | G6: [m] Longitud vertical (mts) | H6: 110 | I6: mts | J6: DATOS | K6: [L] Longitud (mts) | L6: 15.24
B7: [d] diámetro (mm) | C7: 5 | D7: mm | G7: [d] diámetro (mm) | H7: 650 | I7: mm | K7: [d] diámetro (mm) | L7: 6.1
B8: [h] sobre suelo (mts) | C8: 37 | D8: mts | G8: [h'] del extremo inferior al suelo (mts) | H8: 1.75 | I8: mts | K8: [m]altura mastil (mts) | L8: 18
A9: CALCULOS | B9: 2h/l | C9: =2*C8/C6 -> 0.37 | F9: CALCULOS | G9: h'/m | H9: =H8/H6 -> 0.015909091 | K9: Angulo con el mástil a (grados) | L9: 60
B10: l/2h | C10: =C6/2/C8 -> 2.7027027 | G10: m/h' | H10: =H6/H8 -> 62.857143 | J10: CALCULOS | K10: [h] Altura inferior sobre el suelo | L10: =L8-L6*COS(L9*PI()/180) -> 10.38
B11: raiz c8 | C11: =SQRT(1+C9^2) -> 1.0662551 | G11: K1 | H11: =IF(H9<1.001,0.4343+H9*LOG10(4*H9)+(1+H9)*LOG(1+H9)-(1+2*H9)*LOG10(1+2*H9),0) -> 0.40819594 | K11: [H] Altura virtual del hilo sobre el suelo | L11: =L6*COS(60*PI()/180)/2+L10 -> 14.19
B12: S1 | C12: =(C9-(C11-1))/2.303+LOG10((1+C11)/2) -> 0.1460449 | G12: K2 | H12: =IF(H10<1.001,0.1333+H9*(1+H10)*LOG10(1+H10)-2*H9*(1+H10/2)*LOG10(1+H10/2),0) -> 0 | K12: 2h/l | L12: =2*L11/L6 -> 1.8622047
B13: raiz c9 | C13: =SQRT(1+C10^2) -> 2.8817706 | G13: K | H13: =H11+H12 -> 0.40819594 | K13: l/2h | L13: =L6/2/L11 -> 0.53699789
B14: S2 | C14: =(0.3069-C9*(C13-1))/2.303+LOG10((C10+C13)/C10) -> 0.14611962 | G14: Capacidad por metro | H14: =24.16/(LOG10(2*H6*1000/H7)-H13) -> 11.389171 | I14: pF/m | K14: raiz c8 | L14: =SQRT(1+L12^2) -> 2.1137186
B15: S | C15: =IF(C9<1.001,(C9-(C11-1))/2.303+LOG10((1+C11)/2),(0.3069-C9*(C13-1))/2.303+LOG10((C10+C13)/C10)) -> 0.1460449 | G15: Z caracteristica media | H15: =10000/(3*H14) -> 292.67569 | I15: Ω | K15: S1 | L15: =(L12-(L14-1))/2.303+LOG10((1+L14)/2) -> 0.51725419
B16: capacidad por metro | C16: =24.16/(LOG10(4*C8*1000/C7)-C15) -> 5.5858084 | D16: pF/m | F16: RESULTADO | G16: CAPACIDAD TOTAL | H16: =H14*H6 -> 1252.8088 | I16: pF | K16: raiz c9 | L16: =SQRT(1+L13^2) -> 1.1350624
A17: RESULTADO | B17: CAPACIDAD TOTAL | C17: =C16*C6 -> 1117.1617 | D17: pF | K17: S2 | L17: =(0.3069-L12*(L16-1))/2.303+LOG10((L13+L16)/L13) -> 0.51732891
K18: S | L18: =IF(L12<1.001,(L12-(L14-1))/2.303+LOG10((1+L14)/2),(0.3069-L12*(L16-1))/2.303+LOG10((L13+L16)/L13)) -> 0.51732891
K19: capacidad por metro | L19: =24.16/(LOG10(4*L11*1000/L7)-L17) -> 7.0000911
J20: RESULTADO | K20: CAPACIDAD TOTAL | L20: =L6*L19 -> 106.68139

Sheet L invertida y T
C1: L Invertida | E1: T
B2: l | C2: 18 | E2: =C2 -> 18
B3: m | C3: ='Hilos horizontal y vertical'!H6 -> 110 | E3: =C3 -> 110
B4: h' | C4: ='Hilos horizontal y vertical'!H8 -> 1.75 | E4: =C4 -> 1.75 | I4: Valores de la constante X para hilos en ángulo recto ( L invertida y "T")
B5: h | C5: =C3+C4 -> 111.75 | E5: =C5 -> 111.75 | I5: m/l | J5: h'/m | P5: m/h'
B6: d | C6: ='Hilos horizontal y vertical'!C7 -> 5 | E6: =C6 -> 5 | J6: 0 | K6: 0.2 | L6: 0.4 | M6: 0.6 | N6: 0.8 | O6: 1 | P6: 0.8 | Q6: 0.6 | R6: 0.4 | S6: 0.2 | T6: 0
B7: m/l | C7: =C3/C2 -> 6.1111111 | E7: =C3/(E2/2) -> 12.222222 | I7: 0 | J7: 0 | K7: 0 | L7: 0 | M7: 0 | N7: 0 | O7: 0 | P7: 0 | Q7: 0 | R7: 0 | S7: 0 | T7: 0
B8: l/m | C8: =C2/C3 -> 0.16363636 | E8: =E2/E3 -> 0.16363636 | I8: 0.1 | J8: 0.055 | K8: 0.064 | L8: 0.072 | M8: 0.078 | N8: 0.083 | O8: 0.068 | P8: 0.093 | Q8: 0.097 | R8: 0.106 | S8: 0.125 | T8: 0.158
B9: h'/l | C9: =C4/C2 -> 0.097222222 | E9: =C9 -> 0.097222222 | I9: 0.2 | J9: 0.099 | K9: 0.116 | L9: 0.129 | M9: 0.137 | N9: 0.146 | O9: 0.155 | P9: 0.165 | Q9: 0.174 | R9: 0.187 | S9: 0.207 | T9: 0.239
B10: m/h' | C10: =C3/C4 -> 62.857143 | E10: =C10 -> 62.857143 | I10: 0.3 | J10: 0.135 | K10: 0.157 | L10: 0.173 | M10: 0.184 | N10: 0.185 | O10: 0.206 | P10: 0.214 | Q10: 0.226 | R10: 0.241 | S10: 0.262 | T10: 0.291
B11: h'/m | C11: =C4/C3 -> 0.015909091 | E11: =C11 -> 0.015909091 | I11: 0.4 | J11: 0.164 | K11: 0.189 | L11: 0.207 | M11: 0.222 | N11: 0.233 | O11: 0.242 | P11: 0.252 | Q11: 0.263 | R11: 0.276 | S11: 0.296 | T11: 0.325
B12: X | C12: 0.194 | E12: 0.263 | I12: 0.5 | J12: 0.186 | K12: 0.214 | L12: 0.233 | M12: 0.248 | N12: 0.26 | O12: 0.269 | P12: 0.278 | Q12: 0.29 | R12: 0.305 | S12: 0.323 | T12: 0.348
B13: S | C13: ='Hilos horizontal y vertical'!C15 -> 0.1460449 | E13: =C13 -> 0.1460449 | I13: 0.6 | J13: 0.204 | K13: 0.233 | L13: 0.253 | M13: 0.267 | N13: 0.278 | O13: 0.286 | P13: 0.297 | Q13: 0.309 | R13: 0.323 | S13: 0.34 | T13: 0.363
B14: K | C14: ='Hilos horizontal y vertical'!H13 -> 0.40819594 | E14: =C14 -> 0.40819594 | I14: 0.7 | J14: 0.215 | K14: 0.247 | L14: 0.267 | M14: 0.282 | N14: 0.293 | O14: 0.302 | P14: 0.311 | Q14: 0.322 | R14: 0.335 | S14: 0.352 | T14: 0.373
B15: U | C15: =C2/(C2+C3)*(LOG(4*C5*1000/C6)-C13)+C3/(C2+C3)*(LOG(2*C3*1000/C6)-C14)+C12 -> 4.509418 | E15: =E2/(E2+E3)*(LOG(4*E5*1000/E6)-C13)+E3/(E2+E3)*(LOG(2*E3*1000/E6)-C14)+(E2+2*E3)*E12/(E2+E3) -> 4.8044337 | I15: 0.8 | J15: 0.229 | K15: 0.258 | L15: 0.278 | M15: 0.292 | N15: 0.302 | O15: 0.311 | P15: 0.32 | Q15: 0.33 | R15: 0.342 | S15: 0.358 | T15: 0.379
B16: C | C16: =24.16*(C2+C3)/C15 -> 685.78251 | E16: =24.16*(E2+E3)/E15 -> 643.67212 | I16: 0.9 | J16: 0.237 | K16: 0.265 | L16: 0.285 | M16: 0.298 | N16: 0.308 | O16: 0.317 | P16: 0.326 | Q16: 0.336 | R16: 0.347 | S16: 0.362 | T16: 0.382
I17: 1 | J17: 0.243 | K17: 0.271 | L17: 0.29 | M17: 0.303 | N17: 0.313 | O17: 0.321 | P17: 0.329 | Q17: 0.338 | R17: 0.35 | S17: 0.365 | T17: 0.383
I18: l/m | J18: h'/m | P18: m/h'
J19: 0 | K19: 0.2 | L19: 0.4 | M19: 0.6 | N19: 0.8 | O19: 1 | P19: 0.8 | Q19: 0.6 | R19: 0.4 | S19: 0.2 | T19: 0
I20: 0 | J20: 0 | K20: 0 | L20: 0 | M20: 0 | N20: 0 | O20: 0 | P20: 0 | Q20: 0 | R20: 0 | S20: 0 | T20: 0
I21: 0.1 | J21: 0.13 | K21: 0.137 | L21: 0.141 | M21: 0.144 | N21: 0.146 | O21: 0.147 | P21: 0.147 | Q21: 0.15 | R21: 0.153 | S21: 0.155 | T21: 0.159
I22: 0.2 | J22: 0.189 | K22: 0.2 | L22: 0.207 | M22: 0.213 | N22: 0.216 | O22: 0.218 | P22: 0.221 | Q22: 0.224 | R22: 0.228 | S22: 0.232 | T22: 0.239
I23: 0.3 | J23: 0.222 | K23: 0.237 | L23: 0.247 | M23: 0.254 | N23: 0.26 | O23: 0.265 | P23: 0.269 | Q23: 0.272 | R23: 0.275 | S23: 0.282 | T23: 0.291
I24: 0.4 | J24: 0.241 | K24: 0.259 | L24: 0.271 | M24: 0.279 | N24: 0.285 | O24: 0.29 | P24: 0.295 | Q24: 0.3 | R24: 0.306 | S24: 0.314 | T24: 0.325
I25: 0.5 | J25: 0.25 | K25: 0.271 | L25: 0.285 | M25: 0.295 | N25: 0.302 | O25: 0.307 | P25: 0.312 | Q25: 0.318 | R25: 0.325 | S25: 0.335 | T25: 0.348
I26: 0.6 | J26: 0.254 | K26: 0.277 | L26: 0.292 | M26: 0.303 | N26: 0.31 | O26: 0.317 | P26: 0.323 | Q26: 0.33 | R26: 0.338 | S26: 0.349 | T26: 0.363
I27: 0.7 | J27: 0.254 | K27: 0.279 | L27: 0.295 | M27: 0.306 | N27: 0.314 | O27: 0.322 | P27: 0.329 | Q27: 0.336 | R27: 0.346 | S27: 0.357 | T27: 0.373
I28: 0.8 | J28: 0.252 | K28: 0.278 | L28: 0.295 | M28: 0.307 | N28: 0.316 | O28: 0.324 | P28: 0.331 | Q28: 0.34 | R28: 0.35 | S28: 0.362 | T28: 0.379
I29: 0.9 | J29: 0.248 | K29: 0.275 | L29: 0.293 | M29: 0.306 | N29: 0.315 | O29: 0.323 | P29: 0.33 | Q29: 0.339 | R29: 0.35 | S29: 0.364 | T29: 0.388
I30: 1 | J30: 0.243 | K30: 0.271 | L30: 0.29 | M30: 0.303 | N30: 0.313 | O30: 0.321 | P30: 0.329 | Q30: 0.338 | R30: 0.35 | S30: 0.365 | T30: 0.383
